BEGIN:VCALENDAR
VERSION:2.0
PRODID:-//https://www.northamptoncollege.ac.uk///NONSGML kigkonsult.se iCalcreator 2.10.15//
METHOD:PUBLISH
BEGIN:VEVENT
UID:20260423T202608UTC-36709Khulw@https://www.northamptoncollege.ac.uk/
DTSTAMP:20260423T202608Z
DESCRIPTION:The event includes:\nDiscover Your Future Event\nFrom 1pm – 3pm
 \, employers will be invited to host a stand within relevant curriculum ar
 eas\, giving you the opportunity to:\n\nMeet and engage with Year 10 stude
 nts from local schools\nShowcase career pathways\, job roles and apprentic
 eship opportunities\nInspire young people at an early stage of their caree
 r decision-making.\n\nOpen Event\nWe would also welcome your continued inv
 olvement at our main Open Event from 3pm – 7pm. During this time\, employe
 rs will have a stand in our Careers Zone to:\n\nMeet prospective students 
 and parents\nDiscuss career routes\, industry opportunities and apprentice
 ships\nRaise awareness of your sector and future workforce needs.\n\nBy ta
 king part across the day\, you will play a key role in helping us prepare 
 students for their next steps while strengthening links between education 
 and industry.\nWe would be delighted to have you involved and look forward
  to working in partnership to support future talent in the Daventry area.
 \nHow to find us: https://www.northamptoncollege.ac.uk/about-us/events/eve
 nt/332-discover-your-future-event-daventry
DTSTART:20260310T130000Z
DTEND:20260310T190000Z
LOCATION:Daventry (49 Badby Rd W\, Daventry NN11 4HJ\, UK)
SUMMARY:Discover Your Future Event - Daventry
URL:https://www.northamptoncollege.ac.uk/about-us/events/event/332-discover
 -your-future-event-daventry
END:VEVENT
END:VCALENDAR
