BEGIN:VCALENDAR
VERSION:2.0
PRODID:-//https://www.northamptoncollege.ac.uk///NONSGML kigkonsult.se iCalcreator 2.10.15//
METHOD:PUBLISH
BEGIN:VEVENT
UID:20260423T093415UTC-5091IFfpX7@https://www.northamptoncollege.ac.uk/
DTSTAMP:20260423T093415Z
DESCRIPTION:This forum brings together industry professionals to shape the 
 future of workforce development and ensure our training provision reflects
  real-world needs.\nDuring the session\, we will focus on:\n\n\nIdentifyin
 g short courses that support workforce development and address immediate s
 kills shortages\n\n\nExploring how employability and digital skills can be
  further embedded into our programmes to ensure learners are work-ready\n
 \n\nUnderstanding the knowledge\, behaviours\, and technical competencies 
 that should be prioritised within apprenticeship frameworks and T Level de
 livery\n\n\nThe board provides an opportunity for open discussion\, collab
 oration\, and meaningful influence over how we prepare the next generation
  of professionals. By sharing your expertise and experience\, you will hel
 p ensure our curriculum remains aligned with current industry practice and
  future workforce demands.\nThere will also be an opportunity to network w
 ith some of our business partners whilst enjoying some light refreshments.
 \nHow to find us: https://www.northamptoncollege.ac.uk/about-us/events/eve
 nt/348-business-and-finance-industry-advisory-board
DTSTART:20260421T093000Z
DTEND:20260421T110000Z
LOCATION:Booth Ln (Booth Ln N\, Northampton NN3 3RF\, UK)
SUMMARY:Business and Finance Industry Advisory Board 
URL:https://www.northamptoncollege.ac.uk/about-us/events/event/348-business
 -and-finance-industry-advisory-board
END:VEVENT
END:VCALENDAR
